{"text_format":"1","workbook":"xlsx","n_sheets":10,"sheets":["制度加入","制度増口","制度減口","施設加入","様式第5-1号","入力","ブロックの解除方法","施設減口","加入者情報変更","【設定】"],"not_rendered":{"charts":0,"images":10,"macros":1,"external_links":0,"defined_names":10,"comments":0,"pivot_tables":0},"unopened":[],"bounds":{"document_bytes":16777216,"sheet_cells":100000,"rows_first":2000,"rows_last":500,"rows_between":2000,"halvings":0,"cell_chars":16384,"cell_head_chars":4096},"cells_cut":0,"cells_raw":0,"read":"whole","date_system":"1900"}

{"sheet":"制度加入","index":0,"n_rows":7,"n_cols":17,"rows_kept":7,"cut":false,"hidden":true,"merged":[[1,0,1,13],[1,14,1,16],[2,14,3,14],[2,15,3,15],[2,16,3,16],[2,11,3,11],[2,12,3,12],[2,10,3,10],[2,13,3,13],[2,8,3,8],[2,9,3,9],[2,1,3,1],[2,7,3,7],[2,0,3,0],[2,3,3,3],[2,4,3,4],[2,6,3,6],[2,5,3,5],[2,2,3,2]]}
[]
["加入者基本情報",null,null,null,null,null,null,null,null,null,null,null,null,null,"通信欄"]
["利用区分","加入年月","登録番号","加入者名（カナ）","加入者名（漢字）","生年月日","性別","職種","就職日","退職金計算\n起算日","加入口数","当期末要支給額","当期末DB等給付金額","職員番号","通信欄1","通信欄2","通信欄3"]
[]
["11:制度内枠","2025-04-01",null,"シンキ１ カニュウシャ１１","新規１ 加入者１１","1998-01-01","男性","職員","2025-04-01",null,100,120000,0]
[null,null,null,"シンキ１ カニュウシャ","新規１ 加入者","1998-01-01","女性","職員","2022-04-01",null,100,120000]
[null,null,null,"シンキ１ カニュウシャ","新規１ 加入者","1998-01-01","女性","職員","2023-04-01",null,100,120000]

{"sheet":"制度増口","index":1,"n_rows":5,"n_cols":10,"rows_kept":5,"cut":false,"hidden":true,"merged":[[2,5,3,5],[2,6,3,6],[2,0,3,0],[2,4,3,4],[1,7,1,9],[1,0,1,6],[2,2,3,2],[2,7,3,7],[2,8,3,8],[2,9,3,9],[2,1,3,1],[2,3,3,3]]}
[]
["加入者基本情報",null,null,null,null,null,null,"通信欄"]
["利用区分","増口年月","登録番号","増口口数","増口後口数","当期末要支給額","当期末DB等給付金額","通信欄1","通信欄2","通信欄3"]
[]
["11:制度内枠","2024-04-16",12,1,2,999999999,999999999,1,2,3]

{"sheet":"制度減口","index":2,"n_rows":5,"n_cols":15,"rows_kept":5,"cut":false,"hidden":true,"merged":[[1,0,1,8],[1,12,1,14],[2,3,3,3],[2,0,3,0],[2,1,3,1],[2,4,3,4],[2,5,3,5],[1,9,1,11],[2,8,3,8],[2,12,3,12],[2,13,3,13],[2,14,3,14],[2,6,3,6],[2,7,3,7],[2,2,3,2],[2,10,3,11],[2,9,3,9]]}
[]
["加入者基本情報",null,null,null,null,null,null,null,null,"休職情報",null,null,"通信欄"]
["利用区分","減口年月","基準年月","登録番号","減口口数","減口後口数","減口理由","当期末(基準年月)\n要支給額","当期末(基準年月)\nDB等給付金額","休職開始日","休職終了日\n※未定の場合は入力不要",null,"通信欄1","通信欄2","通信欄3"]
[]
["11:制度内枠","2024-04-16","2024-04-16",1,1,2,"減口休職",999999999,999999999,null,null,"未定",1,2,3]

{"sheet":"施設加入","index":3,"n_rows":5,"n_cols":14,"rows_kept":5,"cut":false,"hidden":true,"merged":[[1,0,1,10],[1,11,1,13],[2,10,3,10],[2,11,3,11],[2,12,3,12],[2,13,3,13],[2,8,3,8],[2,9,3,9],[2,7,3,7],[2,0,3,0],[2,3,3,3],[2,4,3,4],[2,5,3,5],[2,6,3,6],[2,1,3,1],[2,2,3,2]]}
[]
["加入者基本情報",null,null,null,null,null,null,null,null,null,null,"通信欄"]
["利用区分","加入年月","登録番号","加入者名（カナ）","加入者名（漢字）","生年月日","性別","職種","就職日","加入口数","職員番号","通信欄1","通信欄2","通信欄3"]
[]
["21:財産形成","2020-01-01",103,"テスト　タロウ","テスト　太郎","1991-01-01","男性","職員","2020-11-12",300,11111,1,2,3]

{"sheet":"様式第5-1号","index":4,"n_rows":118,"n_cols":79,"rows_kept":118,"cut":false,"hidden":false,"merged":[[46,54,49,55],[13,66,21,75],[13,78,14,85],[15,78,21,85],[16,15,21,18],[16,19,21,22],[24,7,26,73],[16,25,20,60],[2,3,3,35],[2,67,3,85],[5,19,7,63],[7,66,9,85],[9,3,10,35],[13,3,15,6],[13,7,15,14],[13,15,15,18],[13,19,15,22],[13,25,15,40],[16,3,21,4],[16,5,21,6],[16,7,21,8],[16,9,21,10],[16,11,21,12],[16,13,21,14],[79,13,84,14],[27,32,28,33],[30,10,33,19],[30,20,33,59],[41,20,42,29],[41,30,42,39],[41,40,42,49],[41,50,42,59],[46,38,49,39],[46,36,49,37],[46,34,49,35],[46,32,49,33],[46,30,49,31],[46,28,49,29],[46,50,49,51],[46,48,49,49],[46,46,49,47],[46,44,49,45],[46,42,49,43],[46,40,49,41],[46,26,49,27],[46,24,49,25],[46,22,49,23],[46,56,49,57],[43,30,44,59],[45,17,49,18],[45,20,49,21],[46,58,49,59],[80,63,83,66],[87,13,92,74],[93,10,96,19],[93,20,96,59],[65,3,66,35],[65,67,66,85],[68,9,70,63],[70,66,72,85],[72,3,73,35],[76,3,78,6],[76,7,78,14],[76,15,78,18],[76,19,78,22],[76,25,78,40],[79,25,83,60],[79,3,84,4],[79,5,84,6],[79,7,84,8],[79,9,84,10],[79,11,84,12],[109,32,112,33],[109,34,112,35],[109,36,112,37],[109,38,112,39],[117,10,119,59],[34,18,38,19],[34,16,38,17],[34,14,38,15],[34,12,38,13],[34,10,38,11],[34,20,38,59],[104,20,105,29],[104,30,105,39],[104,40,105,49],[104,50,105,59],[106,20,107,22],[106,24,107,25],[106,28,107,29],[106,30,107,59],[79,15,84,18],[79,19,84,22],[43,20,44,22],[43,24,44,25],[43,28,44,29],[46,52,49,53],[97,10,101,11],[97,12,101,13],[97,14,101,15],[97,16,101,17],[97,18,101,19],[97,20,101,59],[109,58,112,59],[109,46,112,47],[109,48,112,49],[109,50,112,51],[109,22,112,23],[109,24,112,25],[109,52,112,53],[109,54,112,55],[109,56,112,57],[109,26,112,27],[108,17,112,18],[108,20,112,21],[109,40,112,41],[109,42,112,43],[109,44,112,45],[109,28,112,29],[109,30,112,31]]}
[]
[]
[null,null,null,"様式第５－１号（施設「財産形成」専用申込書）",null,null,null,null,null,null,null,null,null,null,null,null,null,null,null,null,null,null,null,null,null,null,null,null,null,null,null,null,null,null,null,null,null,null,null,null,null,null,null,null,null,null,null,null,null,null,null,null,null,null,null,null,null,null,null,null,null,null,null,null,null,null,null,"（団体→全国共済会）"]
[]
[]
[null,null,null,null,null,null,null,null,null,null,null,null,null,null,null,null,null,null,null,"退職給付金施設（財産形成）増口申込書"]
[]
[null,null,null,null,null,null,null,null,null,null,null,null,null,null,null,null,null,null,null,null,null,null,null,null,null,null,null,null,null,null,null,null,null,null,null,null,null,null,null,null,null,null,null,null,null,null,null,null,null,null,null,null,null,null,null,null,null,null,null,null,null,null,null,null,null,null,{"$f":"IF(入力!E17=\"\",TODAY(),IF(ISNUMBER(入力!E17)=FALSE,\"　 年　月　日\",入力!E17))","v":"2024-11-06"}]
[]
[null,null,null,"一般財団法人 全国農林漁業団体共済会　行"]
[]
[]
[]
[null,null,null,"県コード",null,null,null,"団体コード",null,null,null,null,null,null,null,"施設",null,null,null,"利用区分",null,null,null,null,null,"団 体 名（ゴム印でも可）",null,null,null,null,null,null,null,null,null,null,null,null,null,null,null,null,null,null,null,null,null,null,null,null,null,null,null,null,null,null,null,null,null,null,null,null,null,null,null,null,null,null,null,null,null,null,null,null,null,null,null,null,"担当者印"]
[]
[]
[null,null,null,{"$f":"IF(入力!A17=\"\",\"\",IF(MID(入力!A17,6,1)=\"\",0,IFERROR(MID(入力!A17,LEN(入力!A17)+1-6,1),\"\")))","v":""},null,{"$f":"IF(入力!A17=\"\",\"\",IF(MID(入力!A17,5,1)=\"\",0,IFERROR(MID(入力!A17,LEN(入力!A17)+1-5,1),\"\")))","v":""},null,{"$f":"IF(入力!A17=\"\",\"\",IF(MID(入力!A17,4,1)=\"\",0,IFERROR(MID(入力!A17,LEN(入力!A17)+1-4,1),\"\")))","v":""},null,{"$f":"IF(入力!A17=\"\",\"\",IF(MID(入力!A17,3,1)=\"\",0,IFERROR(MID(入力!A17,LEN(入力!A17)+1-3,1),\"\")))","v":""},null,{"$f":"IF(入力!A17=\"\",\"\",IF(MID(入力!A17,2,1)=\"\",0,IFERROR(MID(入力!A17,LEN(入力!A17)+1-2,1),\"\")))","v":""},null,{"$f":"IF(入力!A17=\"\",\"\",IF(MID(入力!A17,1,1)=\"\",0,IFERROR(MID(入力!A17,LEN(入力!A17)+1-1,1),\"\")))","v":""},null,1,null,null,null,21,null,null,null,null,null,{"$f":"IF(入力!B17=\"\",\"\",入力!B17)","v":""}]
[]
[]
[]
[]
[]
[]
[]
[null,null,null,null,null,null,null,"下記のとおり、農林漁業団体役職員退職給付金施設規約（財産形成）加入者の加入口数を増口いたします。"]
[]
[]
[null,null,null,null,null,null,null,null,null,null,null,null,null,null,null,null,null,null,null,null,null,null,null,null,null,null,null,null,null,null,null,null,"記"]
[]
[]
[null,null,null,null,null,null,null,null,null,null,"登録番号",null,null,null,null,null,null,null,null,null,"氏      名"]
[]
[]
[]
[null,null,null,null,null,null,null,null,null,null,{"$f":"IFERROR(MID(入力!C5,LEN(入力!C5)+1-5,1),\"\")","v":""},null,{"$f":"IFERROR(MID(入力!C5,LEN(入力!C5)+1-4,1),\"\")","v":""},null,{"$f":"IFERROR(MID(入力!C5,LEN(入力!C5)+1-3,1),\"\")","v":""},null,{"$f":"IFERROR(MID(入力!C5,LEN(入力!C5)+1-2,1),\"\")","v":""},null,{"$f":"IFERROR(MID(入力!C5,LEN(入力!C5)+1-1,1),\"\")","v":""},null,{"$f":"IF(入力!C17=\"\",\"\",入力!C17)","v":""}]
[]
[]
[]
[]
[]
[]
[null,null,null,null,null,null,null,null,null,null,null,null,null,null,null,null,null,null,null,null,"増 口 年 月",null,null,null,null,null,null,null,null,null,"既加入口数",null,null,null,null,null,null,null,null,null,"増 口 数",null,null,null,null,null,null,null,null,null,"増口後口数"]
[]
[null,null,null,null,null,null,null,null,null,null,null,null,null,null,null,null,null,null,null,null,"年号",null,null,null,"年",null,null,null,"月",null,"※１口100円"]
[]
[]
[null,null,null,null,null,null,null,null,null,null,null,null,null,null,null,null,null,null,null,null,null,null,{"$f":"IF(入力!B5=\"\",\"\",IFERROR(MID(TEXT(入力!B5,\"eemm\"),1,1),\"\"))","v":""},null,{"$f":"IF(入力!B5=\"\",\"\",IFERROR(MID(TEXT(入力!B5,\"eemm\"),2,1),\"\"))","v":""},null,{"$f":"IF(入力!B5=\"\",\"\",IFERROR(MID(TEXT(入力!B5,\"eemm\"),3,1),\"\"))","v":""},null,{"$f":"IF(入力!B5=\"\",\"\",IFERROR(MID(TEXT(入力!B5,\"eemm\"),4,1),\"\"))","v":""},null,{"$f":"IFERROR(MID(入力!D17,LEN(入力!D17)+1-5,1),\"\")","v":""},null,{"$f":"IFERROR(MID(入力!D17,LEN(入力!D17)+1-4,1),\"\")","v":""},null,{"$f":"IFERROR(MID(入力!D17,LEN(入力!D17)+1-3,1),\"\")","v":""},null,{"$f":"IFERROR(MID(入力!D17,LEN(入力!D17)+1-2,1),\"\")","v":""},null,{"$f":"IFERROR(MID(入力!D17,LEN(入力!D17)+1-1,1),\"\")","v":""},null,{"$f":"IFERROR(MID(入力!D5,LEN(入力!D5)+1-5,1),\"\")","v":""},null,{"$f":"IFERROR(MID(入力!D5,LEN(入力!D5)+1-4,1),\"\")","v":""},null,{"$f":"IFERROR(MID(入力!D5,LEN(入力!D5)+1-3,1),\"\")","v":""},null,{"$f":"IFERROR(MID(入力!D5,LEN(入力!D5)+1-2,1),\"\")","v":""},null,{"$f":"IFERROR(MID(入力!D5,LEN(入力!D5)+1-1,1),\"\")","v":""},null,{"$f":"IFERROR(MID(入力!E5,LEN(入力!E5)+1-5,1),\"\")","v":""},null,{"$f":"IFERROR(MID(入力!E5,LEN(入力!E5)+1-4,1),\"\")","v":""},null,{"$f":"IFERROR(MID(入力!E5,LEN(入力!E5)+1-3,1),\"\")","v":""},null,{"$f":"IFERROR(MID(入力!E5,LEN(入力!E5)+1-2,1),\"\")","v":""},null,{"$f":"IF(入力!E5=\"\",\"\",IFERROR(MID(入力!E5,LEN(入力!E5)+1-1,1),\"\"))","v":""}]
[]
[]
[]
[]
[]
[]
[]
[]
[]
[]
[]
[]
[]
[]
[]
[]
[]
[]
[null,null,null,null,null,null,null,null,null,null,null,null,null,null,null,null,null,null,null,null,null,null,null,null,null,null,null,null,null,null,null,null,null,null,null,null,null,null,null,null,null,null,null,null,null,null,null,null,null,null,null,null,null,null,null,null,null,null,null,null,null,null,null,null,null,null,null,"（加入者→団体）"]
[]
[]
[null,null,null,null,null,null,null,null,null,"退職給付金施設（財産形成）増口申込書兼給与天引き依頼書"]
[]
[null,null,null,null,null,null,null,null,null,null,null,null,null,null,null,null,null,null,null,null,null,null,null,null,null,null,null,null,null,null,null,null,null,null,null,null,null,null,null,null,null,null,null,null,null,null,null,null,null,null,null,null,null,null,null,null,null,null,null,null,null,null,null,null,null,null,{"$f":"BO8","v":"2024-11-06"}]
[]
[]
[]
[]
[]
[null,null,null,"県コード",null,null,null,"団体コード",null,null,null,null,null,null,null,"施設",null,null,null,"利用区分",null,null,null,null,null,"団 体 名（ゴム印でも可）"]
[]
[]
[null,null,null,{"$f":"D17","v":""},null,{"$f":"F17","v":""},null,{"$f":"H17","v":""},null,{"$f":"J17","v":""},null,{"$f":"L17","v":""},null,{"$f":"N17","v":""},null,1,null,null,null,21,null,null,null,null,null,{"$f":"Z17","v":""}]
[null,null,null,null,null,null,null,null,null,null,null,null,null,null,null,null,null,null,null,null,null,null,null,null,null,null,null,null,null,null,null,null,null,null,null,null,null,null,null,null,null,null,null,null,null,null,null,null,null,null,null,null,null,null,null,null,null,null,null,null,null,null,null,"殿"]
[]
[]
[]
[]
[]
[]
[null,null,null,null,null,null,null,null,null,null,null,null,null,"　私は、一般財団法人全国農林漁業団体共済会の農林漁業団体役職員退職給付金施設（財産形成）に\nにかかる加入口数をつぎのとおり増口したいので、申し出いたします。"]
[]
[]
[]
[]
[]
[null,null,null,null,null,null,null,null,null,null,"登録番号",null,null,null,null,null,null,null,null,null,"氏　　　名"]
[]
[]
[]
[null,null,null,null,null,null,null,null,null,null,{"$f":"K35","v":""},null,{"$f":"M35","v":""},null,{"$f":"O35","v":""},null,{"$f":"Q35","v":""},null,{"$f":"S35","v":""},null,{"$f":"U35","v":""}]
[]
[]
[]
[]
[]
[]
[null,null,null,null,null,null,null,null,null,null,null,null,null,null,null,null,null,null,null,null,"増 口 年 月",null,null,null,null,null,null,null,null,null,"既加入口数",null,null,null,null,null,null,null,null,null,"増 口 数",null,null,null,null,null,null,null,null,null,"増口後口数"]
[]
[null,null,null,null,null,null,null,null,null,null,null,null,null,null,null,null,null,null,null,null,"年号",null,null,null,"年",null,null,null,"月",null,"※１口100円"]
[]
[]
[null,null,null,null,null,null,null,null,null,null,null,null,null,null,null,null,null,null,null,null,null,null,{"$f":"W47","v":""},null,{"$f":"Y47","v":""},null,{"$f":"AA47","v":""},null,{"$f":"AC47","v":""},null,{"$f":"AE47","v":""},null,{"$f":"AG47","v":""},null,{"$f":"AI47","v":""},null,{"$f":"AK47","v":""},null,{"$f":"AM47","v":""},null,{"$f":"AO47","v":""},null,{"$f":"AQ47","v":""},null,{"$f":"AS47","v":""},null,{"$f":"AU47","v":""},null,{"$f":"AW47","v":""},null,{"$f":"AY47","v":""},null,{"$f":"BA47","v":""},null,{"$f":"BC47","v":""},null,{"$f":"BE47","v":""},null,{"$f":"BG47","v":""}]
[]
[]
[]
[]
[]
[]
[]
[null,null,null,null,null,null,null,null,null,null,"※こちらは加入団体控となりますので、ＪＡ全国共済会への提出は不要です。"]

{"sheet":"入力","index":5,"n_rows":16,"n_cols":8,"rows_kept":16,"cut":false,"hidden":false,"merged":[[2,8,3,8],[2,9,3,9],[1,0,1,4],[1,5,1,7],[2,5,3,5],[2,6,3,6],[2,7,3,7],[2,2,3,2],[2,0,3,0],[2,1,3,1],[2,3,3,3],[2,4,3,4]]}
[]
["加入者基本情報",null,null,null,null,"通信欄(様式5-1号には反映されません)"]
["利用区分","増口年月","登録番号","増口口数","増口後口数","通信欄1","通信欄2","通信欄3"]
[]
["21:財産形成"]
[]
[]
[]
[]
[]
[]
[]
[]
[]
[]
["県・団体コード","団体名","氏名","既加入口数","申込日"]

{"sheet":"ブロックの解除方法","index":6,"n_rows":32,"n_cols":2,"rows_kept":32,"cut":false,"hidden":false,"merged":[]}
["★ブロックの解除方法について"]
[]
[]
[]
["　上記のメッセージが表示された場合、「CSV出力」ボタンが使用できません。"]
["（１）","ご使用のPCにファイルをダウンロードしてご利用ください。"]
[null,"※ブロックされる場合は（２）をご参照ください。"]
[]
["（２）","（１）の方法でブロックされる場合は以下の操作を行ってください。"]
["①","ファイルを右クリックし、「プロパティ」を開く"]
[]
[]
[]
[]
[]
[]
[]
[]
[]
[]
[]
[]
[]
[]
[]
[]
[]
[]
[]
[]
[]
["②","プロパティ > 全般 に表示されている「セキュリティ： 許可する」に☑を入れ、「OK」ボタンをクリック"]

{"sheet":"施設減口","index":7,"n_rows":5,"n_cols":12,"rows_kept":5,"cut":false,"hidden":true,"merged":[[1,6,1,8],[2,7,3,8],[1,0,1,5],[1,9,1,11],[2,2,3,2],[2,0,3,0],[2,1,3,1],[2,3,3,3],[2,4,3,4],[2,5,3,5],[2,11,3,11],[2,6,3,6],[2,9,3,9],[2,10,3,10]]}
[]
["加入者基本情報",null,null,null,null,null,"休職情報",null,null,"通信欄"]
["利用区分","減口年月","登録番号","減口口数","減口後口数","減口理由","休職開始日","休職終了日\n※未定の場合は入力不要",null,"通信欄1","通信欄2","通信欄3"]
[]
["21:財産形成","2024-04-16",12,1,2,"減口休職",null,null,"未定",1,2,3]

{"sheet":"加入者情報変更","index":8,"n_rows":5,"n_cols":12,"rows_kept":5,"cut":false,"hidden":true,"merged":[[1,0,1,8],[1,9,1,11],[2,8,3,8],[2,9,3,9],[2,10,3,10],[2,11,3,11],[2,0,3,0],[2,6,3,6],[2,7,3,7],[2,1,3,1],[2,2,3,2],[2,3,3,3],[2,4,3,4],[2,5,3,5]]}
[]
["加入者基本情報　※「登録番号」と変更したい加入者情報のみ入力してください。",null,null,null,null,null,null,null,null,"通信欄"]
["登録番号","加入者名（カナ）","加入者名（漢字）","生年月日","性別","職種","就職日","退職金計算\n起算日","職員番号","通信欄1","通信欄2","通信欄3"]
[]
[12,"テスト","テスト","2024-04-16","男性","役員","2024-04-16","2024-04-16",null,1,2,3]

{"sheet":"【設定】","index":9,"n_rows":7,"n_cols":26,"rows_kept":7,"cut":false,"hidden":true,"merged":[[0,21,0,22],[0,24,0,25],[0,18,0,19],[0,0,0,1],[0,3,0,4],[0,6,0,7],[0,9,0,10],[0,12,0,13],[0,15,0,16]]}
["元号リスト",null,null,"利用区分リスト_制度",null,null,"利用区分リスト_施設",null,null,"性別リスト",null,null,"職種リスト_制度",null,null,"減口理由リスト_制度",null,null,"未定リスト",null,null,"職種リスト_施設",null,null,"減口理由リスト_施設"]
[0,null,null,0,null,null,0,null,null,0,null,null,0,null,null,0,null,null,0,null,null,0,null,null,0]
["M","明治",null,11,"11:制度内枠",null,21,"21:財産形成",null,1,"男性",null,2,"職員",null,2,"減口休職",null,1,"未定",null,1,"役員",null,2,"減口休職"]
["T","大正",null,12,"12:制度外枠",null,22,"22:役員慰労金個人",null,2,"女性",null,3,"その他職員",null,3,"減口給付金超過",null,null,null,null,2,"職員",null,3,"減口給付金超過"]
["S","昭和",null,13,"13:制度唯一",null,23,"23:役員慰労引当金",null,null,null,null,null,null,null,null,null,null,null,null,null,3,"その他職員",null,5,"減口職種変更"]
["H","平成",null,null,null,null,24,"24:職員給付引当金",null,null,null,null,null,null,null,null,null,null,null,null,null,null,null,null,6,"減口雇用延長"]
["R","令和",null,null,null,null,25,"25:施設個人別契約他"]