{"text_format":"1","workbook":"xlsx","n_sheets":10,"sheets":["様式第1-1号","制度加入","制度増口","制度減口","入力","ブロックの解除方法","施設増口","施設減口","加入者情報変更","【設定】"],"not_rendered":{"charts":0,"images":10,"macros":1,"external_links":0,"defined_names":10,"comments":0,"pivot_tables":0},"unopened":[],"bounds":{"document_bytes":16777216,"sheet_cells":100000,"rows_first":2000,"rows_last":500,"rows_between":2000,"halvings":0,"cell_chars":16384,"cell_head_chars":4096},"cells_cut":0,"cells_raw":0,"read":"whole","date_system":"1900"}

{"sheet":"様式第1-1号","index":0,"n_rows":119,"n_cols":85,"rows_kept":119,"cut":false,"hidden":false,"merged":[[109,76,112,77],[109,78,112,79],[109,80,112,81],[109,82,112,83],[109,84,112,85],[97,17,101,55],[79,3,84,4],[79,5,84,6],[79,7,84,8],[79,9,84,10],[79,11,84,12],[79,13,84,14],[109,56,112,57],[109,58,112,59],[109,60,112,61],[109,62,112,63],[109,64,112,65],[109,66,112,67],[109,68,112,69],[109,70,112,71],[109,72,112,73],[108,33,112,36],[109,52,112,53],[109,54,112,55],[109,11,112,12],[109,13,112,14],[109,15,112,16],[109,17,112,18],[109,19,112,20],[109,21,112,22],[109,74,112,75],[95,37,96,38],[95,39,96,40],[95,41,96,42],[95,43,96,44],[95,45,96,46],[95,47,96,48],[95,49,96,50],[95,51,96,52],[95,53,96,54],[118,7,120,88],[104,70,107,85],[106,7,107,10],[106,11,107,14],[106,15,107,18],[106,19,107,22],[106,33,107,36],[106,37,107,40],[106,41,107,44],[106,45,107,48],[106,49,107,51],[106,52,107,55],[106,56,107,59],[108,7,112,10],[108,23,112,27],[108,28,112,32],[108,49,112,51],[114,7,117,88],[109,37,112,38],[109,39,112,40],[109,41,112,42],[109,43,112,44],[109,45,112,46],[109,47,112,48],[87,7,92,68],[93,7,96,16],[93,17,94,56],[97,7,101,16],[104,7,105,22],[104,23,107,27],[104,28,107,32],[104,33,105,48],[104,49,105,59],[104,60,107,69],[95,55,96,56],[95,17,96,18],[95,19,96,20],[95,21,96,22],[95,23,96,24],[95,25,96,26],[95,27,96,28],[95,29,96,30],[95,31,96,32],[95,33,96,34],[95,35,96,36],[72,3,73,35],[76,3,78,6],[76,7,78,14],[76,15,78,18],[76,19,78,22],[76,25,78,40],[79,15,84,18],[79,19,84,22],[80,64,83,67],[79,25,83,61],[2,3,3,35],[2,67,3,85],[5,19,7,63],[7,66,9,85],[9,3,10,35],[13,3,15,6],[13,7,15,14],[13,15,15,18],[13,19,15,22],[13,25,15,40],[13,78,14,85],[15,78,21,85],[16,3,21,4],[16,5,21,6],[16,7,21,8],[16,9,21,10],[16,11,21,12],[16,13,21,14],[16,15,21,18],[16,19,21,22],[16,25,20,60],[24,7,26,61],[27,32,28,33],[30,7,33,16],[30,17,31,56],[32,17,33,18],[32,19,33,20],[32,21,33,22],[32,23,33,24],[32,25,33,26],[32,51,33,52],[32,53,33,54],[32,55,33,56],[34,7,38,8],[34,9,38,10],[34,11,38,12],[34,13,38,14],[34,15,38,16],[34,17,38,56],[32,39,33,40],[32,41,33,42],[32,43,33,44],[32,45,33,46],[32,47,33,48],[32,49,33,50],[32,27,33,28],[32,29,33,30],[32,31,33,32],[32,33,33,34],[32,35,33,36],[32,37,33,38],[41,70,44,85],[43,7,44,10],[43,11,44,14],[43,15,44,18],[43,19,44,22],[43,33,44,36],[43,37,44,40],[43,41,44,44],[43,45,44,48],[43,49,44,51],[41,7,42,22],[41,23,44,27],[41,28,44,32],[41,33,42,48],[41,49,42,59],[41,60,44,69],[43,52,44,55],[43,56,44,59],[46,37,49,38],[46,39,49,40],[46,41,49,42],[46,43,49,44],[46,45,49,46],[45,7,49,10],[45,23,49,27],[45,28,49,32],[45,33,49,36],[46,11,49,12],[46,13,49,14],[46,15,49,16],[46,17,49,18],[46,19,49,20],[68,7,70,63],[70,66,72,85],[46,52,49,53],[46,54,49,55],[46,56,49,57],[46,58,49,59],[46,60,49,61],[45,49,49,51],[46,47,49,48],[65,3,66,35],[65,67,66,85],[46,74,49,75],[46,76,49,77],[46,78,49,79],[46,80,49,81],[46,82,49,83],[46,84,49,85],[46,62,49,63],[46,64,49,65],[46,66,49,67],[46,68,49,69],[46,70,49,71],[46,72,49,73],[46,21,49,22]]}
[]
[]
[null,null,null,"様式第１－１号（施設「財産形成」専用申込書）",null,null,null,null,null,null,null,null,null,null,null,null,null,null,null,null,null,null,null,null,null,null,null,null,null,null,null,null,null,null,null,null,null,null,null,null,null,null,null,null,null,null,null,null,null,null,null,null,null,null,null,null,null,null,null,null,null,null,null,null,null,null,null,"（団体→全国共済会）"]
[]
[]
[null,null,null,null,null,null,null,null,null,null,null,null,null,null,null,null,null,null,null,"退職給付金施設（財産形成）加入申込書"]
[]
[null,null,null,null,null,null,null,null,null,null,null,null,null,null,null,null,null,null,null,null,null,null,null,null,null,null,null,null,null,null,null,null,null,null,null,null,null,null,null,null,null,null,null,null,null,null,null,null,null,null,null,null,null,null,null,null,null,null,null,null,null,null,null,null,null,null,{"$f":"IF(入力!C17=\"\",TODAY(),IF(ISNUMBER(入力!C17)=FALSE,\"　 年　月　日\",入力!C17))","v":"2024-11-06"}]
[]
[null,null,null,"一般財団法人 全国農林漁業団体共済会　行"]
[]
[]
[]
[null,null,null,"県コード",null,null,null,"団体コード",null,null,null,null,null,null,null,"施設",null,null,null,"利用区分",null,null,null,null,null,"団 体 名（ゴム印でも可）",null,null,null,null,null,null,null,null,null,null,null,null,null,null,null,null,null,null,null,null,null,null,null,null,null,null,null,null,null,null,null,null,null,null,null,null,null,null,null,null,null,null,null,null,null,null,null,null,null,null,null,null,"担当者印"]
[]
[]
[null,null,null,{"$f":"IF(入力!A17=\"\",\"\",IF(MID(入力!A17,6,1)=\"\",0,IFERROR(MID(入力!A17,LEN(入力!A17)+1-6,1),\"\")))","v":""},null,{"$f":"IF(入力!A17=\"\",\"\",IF(MID(入力!A17,5,1)=\"\",0,IFERROR(MID(入力!A17,LEN(入力!A17)+1-5,1),\"\")))","v":""},null,{"$f":"IF(入力!A17=\"\",\"\",IF(MID(入力!A17,4,1)=\"\",0,IFERROR(MID(入力!A17,LEN(入力!A17)+1-4,1),\"\")))","v":""},null,{"$f":"IF(入力!A17=\"\",\"\",IF(MID(入力!A17,3,1)=\"\",0,IFERROR(MID(入力!A17,LEN(入力!A17)+1-3,1),\"\")))","v":""},null,{"$f":"IF(入力!A17=\"\",\"\",IF(MID(入力!A17,2,1)=\"\",0,IFERROR(MID(入力!A17,LEN(入力!A17)+1-2,1),\"\")))","v":""},null,{"$f":"IF(入力!A17=\"\",\"\",IF(MID(入力!A17,1,1)=\"\",0,IFERROR(MID(入力!A17,LEN(入力!A17)+1-1,1),\"\")))","v":""},null,1,null,null,null,21,null,null,null,null,null,{"$f":"IF(入力!B17=\"\",\"\",入力!B17)","v":""}]
[]
[]
[]
[]
[]
[]
[]
[null,null,null,null,null,null,null,"農林漁業団体役職員退職給付金施設規約を了承し、下記の役職員の申込みをいたします。"]
[]
[]
[null,null,null,null,null,null,null,null,null,null,null,null,null,null,null,null,null,null,null,null,null,null,null,null,null,null,null,null,null,null,null,null,"記"]
[]
[]
[null,null,null,null,null,null,null,"登録番号\n（記入不要）",null,null,null,null,null,null,null,null,null,"氏名（フリガナは、姓と名の間を必ず1つあける。漢字はゴム印でも可）"]
[]
[null,null,null,null,null,null,null,null,null,null,null,null,null,null,null,null,null,{"$f":"LEFT(入力!D5,1)","v":""},null,{"$f":"MID(入力!D5,2,1)","v":""},null,{"$f":"MID(入力!D5,3,1)","v":""},null,{"$f":"MID(入力!D5,4,1)","v":""},null,{"$f":"MID(入力!D5,5,1)","v":""},null,{"$f":"MID(入力!D5,6,1)","v":""},null,{"$f":"MID(入力!D5,7,1)","v":""},null,{"$f":"MID(入力!D5,8,1)","v":""},null,{"$f":"MID(入力!D5,9,1)","v":""},null,{"$f":"MID(入力!D5,10,1)","v":""},null,{"$f":"MID(入力!D5,11,1)","v":""},null,{"$f":"MID(入力!D5,12,1)","v":""},null,{"$f":"MID(入力!D5,13,1)","v":""},null,{"$f":"MID(入力!D5,14,1)","v":""},null,{"$f":"MID(入力!D5,15,1)","v":""},null,{"$f":"MID(入力!D5,16,1)","v":""},null,{"$f":"MID(入力!D5,17,1)","v":""},null,{"$f":"MID(入力!D5,18,1)","v":""},null,{"$f":"MID(入力!D5,19,1)","v":""},null,{"$f":"MID(入力!D5,20,1)","v":""}]
[]
[null,null,null,null,null,null,null,null,null,null,null,null,null,null,null,null,null,{"$f":"IF(入力!E5=\"\",\"\",入力!E5)","v":""}]
[]
[]
[]
[]
[]
[]
[null,null,null,null,null,null,null,"生　年　月　日",null,null,null,null,null,null,null,null,null,null,null,null,null,null,null,"性別",null,null,null,null,"職種",null,null,null,null,"就　職　年　月　日",null,null,null,null,null,null,null,null,null,null,null,null,null,null,null,"加 入 年 月",null,null,null,null,null,null,null,null,null,null,"加入口数\n※１口100円",null,null,null,null,null,null,null,null,null,"職 員 番 号"]
[]
[null,null,null,null,null,null,null,"年号",null,null,null,"年",null,null,null,"月",null,null,null,"日",null,null,null,null,null,null,null,null,null,null,null,null,null,"年号",null,null,null,"年",null,null,null,"月",null,null,null,"日",null,null,null,"年号",null,null,"年",null,null,null,"月"]
[]
[null,null,null,null,null,null,null,{"$f":"IF(OR(入力!F5=\"\",入力!F5=0),\"\",IF(入力!F5>43585,\"5 令和\",IF(入力!F5>32515,\"4 平成\",\"3 昭和\")))","v":""},null,null,null,null,null,null,null,null,null,null,null,null,null,null,null,{"$f":"IF(入力!G5=\"男性\",\"1 男\",IF(入力!G5=\"女性\",\"2 女\",\"\"))","v":""},null,null,null,null,{"$f":"IFERROR(IF(入力!H5=\"役員\",\"1 役員\",IF(入力!H5=\"職員\",\"2 職員\",IF(入力!H5=\"その他職員\",\"3 その他\",\"\"))),\"\")","v":""},null,null,null,null,{"$f":"IF(OR(入力!I5=\"\",入力!I5=0),\"\",IF(入力!I5>43585,\"5 令和\",IF(入力!I5>32515,\"4 平成\",\"3 昭和\")))","v":""},null,null,null,null,null,null,null,null,null,null,null,null,null,null,null,"５\n令和"]
[null,null,null,null,null,null,null,null,null,null,null,{"$f":"IF(入力!F5=\"\",\"\",IFERROR(MID(TEXT(入力!F5,\"eemmdd\"),1,1),\"\"))","v":""},null,{"$f":"IF(入力!F5=\"\",\"\",IFERROR(MID(TEXT(入力!F5,\"eemmdd\"),2,1),\"\"))","v":""},null,{"$f":"IF(入力!F5=\"\",\"\",IFERROR(MID(TEXT(入力!F5,\"eemmdd\"),3,1),\"\"))","v":""},null,{"$f":"IF(入力!F5=\"\",\"\",IFERROR(MID(TEXT(入力!F5,\"eemmdd\"),4,1),\"\"))","v":""},null,{"$f":"IF(入力!F5=\"\",\"\",IFERROR(MID(TEXT(入力!F5,\"eemmdd\"),5,1),\"\"))","v":""},null,{"$f":"IF(入力!F5=\"\",\"\",IFERROR(MID(TEXT(入力!F5,\"eemmdd\"),6,1),\"\"))","v":""},null,null,null,null,null,null,null,null,null,null,null,null,null,null,null,{"$f":"IF(入力!I5=\"\",\"\",IFERROR(MID(TEXT(入力!I5,\"eemmdd\"),1,1),\"\"))","v":""},null,{"$f":"IF(入力!I5=\"\",\"\",IFERROR(MID(TEXT(入力!I5,\"eemmdd\"),2,1),\"\"))","v":""},null,{"$f":"IF(入力!I5=\"\",\"\",IFERROR(MID(TEXT(入力!I5,\"eemmdd\"),3,1),\"\"))","v":""},null,{"$f":"IF(入力!I5=\"\",\"\",IFERROR(MID(TEXT(入力!I5,\"eemmdd\"),4,1),\"\"))","v":""},null,{"$f":"IF(入力!I5=\"\",\"\",IFERROR(MID(TEXT(入力!I5,\"eemmdd\"),5,1),\"\"))","v":""},null,{"$f":"IF(入力!I5=\"\",\"\",IFERROR(MID(TEXT(入力!I5,\"eemmdd\"),6,1),\"\"))","v":""},null,null,null,null,{"$f":"IF(入力!B5=\"\",\"\",IFERROR(MID(TEXT(入力!B5,\"eemm\"),1,1),\"\"))","v":""},null,{"$f":"IF(入力!B5=\"\",\"\",IFERROR(MID(TEXT(入力!B5,\"eemm\"),2,1),\"\"))","v":""},null,{"$f":"IF(入力!B5=\"\",\"\",IFERROR(MID(TEXT(入力!B5,\"eemm\"),3,1),\"\"))","v":""},null,{"$f":"IF(入力!B5=\"\",\"\",IFERROR(MID(TEXT(入力!B5,\"eemm\"),4,1),\"\"))","v":""},null,{"$f":"IFERROR(MID(入力!J5,LEN(入力!J5)+1-5,1),\"\")","v":""},null,{"$f":"IFERROR(MID(入力!J5,LEN(入力!J5)+1-4,1),\"\")","v":""},null,{"$f":"IFERROR(MID(入力!J5,LEN(入力!J5)+1-3,1),\"\")","v":""},null,{"$f":"IFERROR(MID(入力!J5,LEN(入力!J5)+1-2,1),\"\")","v":""},null,{"$f":"IFERROR(MID(入力!J5,LEN(入力!J5)+1-1,1),\"\")","v":""},null,{"$f":"IFERROR(MID(入力!K5,LEN(入力!K5)+1-8,1),\"\")","v":""},null,{"$f":"IFERROR(MID(入力!K5,LEN(入力!K5)+1-7,1),\"\")","v":""},null,{"$f":"IFERROR(MID(入力!K5,LEN(入力!K5)+1-6,1),\"\")","v":""},null,{"$f":"IFERROR(MID(入力!K5,LEN(入力!K5)+1-5,1),\"\")","v":""},null,{"$f":"IFERROR(MID(入力!K5,LEN(入力!K5)+1-4,1),\"\")","v":""},null,{"$f":"IFERROR(MID(入力!K5,LEN(入力!K5)+1-3,1),\"\")","v":""},null,{"$f":"IFERROR(MID(入力!K5,LEN(入力!K5)+1-2,1),\"\")","v":""},null,{"$f":"IFERROR(MID(入力!K5,LEN(入力!K5)+1-1,1),\"\")","v":""}]
[]
[]
[]
[]
[]
[]
[]
[]
[]
[]
[]
[]
[]
[]
[]
[]
[]
[]
[null,null,null,null,null,null,null,null,null,null,null,null,null,null,null,null,null,null,null,null,null,null,null,null,null,null,null,null,null,null,null,null,null,null,null,null,null,null,null,null,null,null,null,null,null,null,null,null,null,null,null,null,null,null,null,null,null,null,null,null,null,null,null,null,null,null,null,"（加入者→団体）"]
[]
[]
[null,null,null,null,null,null,null,"退職給付金施設（財産形成）加入申込書兼給与天引き依頼書"]
[]
[null,null,null,null,null,null,null,null,null,null,null,null,null,null,null,null,null,null,null,null,null,null,null,null,null,null,null,null,null,null,null,null,null,null,null,null,null,null,null,null,null,null,null,null,null,null,null,null,null,null,null,null,null,null,null,null,null,null,null,null,null,null,null,null,null,null,{"$f":"BO8","v":"2024-11-06"}]
[]
[]
[]
[]
[]
[null,null,null,"県コード",null,null,null,"団体コード",null,null,null,null,null,null,null,"施設",null,null,null,"利用区分",null,null,null,null,null,"団 体 名（ゴム印でも可）"]
[]
[]
[null,null,null,{"$f":"D17","v":""},null,{"$f":"F17","v":""},null,{"$f":"H17","v":""},null,{"$f":"J17","v":""},null,{"$f":"L17","v":""},null,{"$f":"N17","v":""},null,1,null,null,null,21,null,null,null,null,null,{"$f":"Z17","v":""}]
[null,null,null,null,null,null,null,null,null,null,null,null,null,null,null,null,null,null,null,null,null,null,null,null,null,null,null,null,null,null,null,null,null,null,null,null,null,null,null,null,null,null,null,null,null,null,null,null,null,null,null,null,null,null,null,null,null,null,null,null,null,null,null,null,"殿"]
[]
[]
[]
[]
[]
[]
[null,null,null,null,null,null,null,"　私は、一般財団法人全国農林漁業団体共済会の農林漁業団体役職員退職給付金施設（財産形成）に\n加入したいので、次の通り申し出いたします。"]
[]
[]
[]
[]
[]
[null,null,null,null,null,null,null,"フリガナ",null,null,null,null,null,null,null,null,null,"　フリガナは、姓と名の間を必ず1つあけて下さい。"]
[]
[null,null,null,null,null,null,null,null,null,null,null,null,null,null,null,null,null,{"$f":"R33","v":""},null,{"$f":"T33","v":""},null,{"$f":"V33","v":""},null,{"$f":"X33","v":""},null,{"$f":"Z33","v":""},null,{"$f":"AB33","v":""},null,{"$f":"AD33","v":""},null,{"$f":"AF33","v":""},null,{"$f":"AH33","v":""},null,{"$f":"AJ33","v":""},null,{"$f":"AL33","v":""},null,{"$f":"AN33","v":""},null,{"$f":"AP33","v":""},null,{"$f":"AR33","v":""},null,{"$f":"AT33","v":""},null,{"$f":"AV33","v":""},null,{"$f":"AX33","v":""},null,{"$f":"AZ33","v":""},null,{"$f":"BB33","v":""},null,{"$f":"BD33","v":""}]
[]
[null,null,null,null,null,null,null,"氏　名",null,null,null,null,null,null,null,null,null,{"$f":"R35","v":""}]
[]
[]
[]
[]
[]
[]
[null,null,null,null,null,null,null,"生　年　月　日",null,null,null,null,null,null,null,null,null,null,null,null,null,null,null,"性別",null,null,null,null,"職種",null,null,null,null,"就　職　年　月　日",null,null,null,null,null,null,null,null,null,null,null,null,null,null,null,"加 入 年 月",null,null,null,null,null,null,null,null,null,null,"加入口数\n※１口100円",null,null,null,null,null,null,null,null,null,"職 員 番 号"]
[]
[null,null,null,null,null,null,null,"年号",null,null,null,"年",null,null,null,"月",null,null,null,"日",null,null,null,null,null,null,null,null,null,null,null,null,null,"年号",null,null,null,"年",null,null,null,"月",null,null,null,"日",null,null,null,"年号",null,null,"年",null,null,null,"月"]
[]
[null,null,null,null,null,null,null,{"$f":"H46","v":""},null,null,null,null,null,null,null,null,null,null,null,null,null,null,null,{"$f":"X46","v":""},null,null,null,null,{"$f":"AC46","v":""},null,null,null,null,{"$f":"AH46","v":""},null,null,null,null,null,null,null,null,null,null,null,null,null,null,null,"５\n令和"]
[null,null,null,null,null,null,null,null,null,null,null,{"$f":"L47","v":""},null,{"$f":"N47","v":""},null,{"$f":"P47","v":""},null,{"$f":"R47","v":""},null,{"$f":"T47","v":""},null,{"$f":"V47","v":""},null,null,null,null,null,null,null,null,null,null,null,null,null,null,null,{"$f":"AL47","v":""},null,{"$f":"AN47","v":""},null,{"$f":"AP47","v":""},null,{"$f":"AR47","v":""},null,{"$f":"AT47","v":""},null,{"$f":"AV47","v":""},null,null,null,null,{"$f":"BA47","v":""},null,{"$f":"BC47","v":""},null,{"$f":"BE47","v":""},null,{"$f":"BG47","v":""},null,{"$f":"BI47","v":""},null,{"$f":"BK47","v":""},null,{"$f":"BM47","v":""},null,{"$f":"BO47","v":""},null,{"$f":"BQ47","v":""},null,{"$f":"BS47","v":""},null,{"$f":"BU47","v":""},null,{"$f":"BW47","v":""},null,{"$f":"BY47","v":""},null,{"$f":"CA47","v":""},null,{"$f":"CC47","v":""},null,{"$f":"CE47","v":""},null,{"$f":"CG47","v":""}]
[]
[]
[]
[]
[null,null,null,null,null,null,null,"※あなた様からご提供いただきますご契約に基づく個人情報につきましては、本会での契約管理の目的に利用させていただきます。\n　以上「個人情報の保護に関する法律」の定めに基づきご通知申し上げます。"]
[]
[]
[]
[null,null,null,null,null,null,null,"※こちらは加入団体控となりますので、ＪＡ全国共済会への提出は不要です。"]

{"sheet":"制度加入","index":1,"n_rows":5,"n_cols":17,"rows_kept":5,"cut":false,"hidden":true,"merged":[[2,6,3,6],[2,5,3,5],[2,2,3,2],[1,0,1,13],[1,14,1,16],[2,14,3,14],[2,15,3,15],[2,16,3,16],[2,11,3,11],[2,12,3,12],[2,10,3,10],[2,13,3,13],[2,8,3,8],[2,9,3,9],[2,1,3,1],[2,7,3,7],[2,0,3,0],[2,3,3,3],[2,4,3,4]]}
[]
["加入者基本情報",null,null,null,null,null,null,null,null,null,null,null,null,null,"通信欄"]
["利用区分","加入年月","登録番号","加入者名（カナ）","加入者名（漢字）","生年月日","性別","職種","就職日","退職金計算\n起算日","加入口数","当期末要支給額","当期末DB等給付金額","職員番号","通信欄1","通信欄2","通信欄3"]
[]
["11:制度内枠","2020-01-01",103,"テスト　タロウ","テスト　太郎","1991-01-01","男性","職員","2020-11-12","2020-11-12",300,999999999,999999999,103,1,2,3]

{"sheet":"制度増口","index":2,"n_rows":5,"n_cols":10,"rows_kept":5,"cut":false,"hidden":true,"merged":[[2,5,3,5],[2,6,3,6],[2,0,3,0],[2,4,3,4],[1,7,1,9],[1,0,1,6],[2,2,3,2],[2,7,3,7],[2,8,3,8],[2,9,3,9],[2,1,3,1],[2,3,3,3]]}
[]
["加入者基本情報",null,null,null,null,null,null,"通信欄"]
["利用区分","増口年月","登録番号","増口口数","増口後口数","当期末要支給額","当期末DB等給付金額","通信欄1","通信欄2","通信欄3"]
[]
["11:制度内枠","2024-04-16",12,1,2,999999999,999999999,1,2,3]

{"sheet":"制度減口","index":3,"n_rows":5,"n_cols":15,"rows_kept":5,"cut":false,"hidden":true,"merged":[[2,7,3,7],[2,2,3,2],[2,10,3,11],[2,9,3,9],[1,0,1,8],[1,12,1,14],[2,3,3,3],[2,0,3,0],[2,1,3,1],[2,4,3,4],[2,5,3,5],[1,9,1,11],[2,8,3,8],[2,12,3,12],[2,13,3,13],[2,14,3,14],[2,6,3,6]]}
[]
["加入者基本情報",null,null,null,null,null,null,null,null,"休職情報",null,null,"通信欄"]
["利用区分","減口年月","基準年月","登録番号","減口口数","減口後口数","減口理由","当期末(基準年月)\n要支給額","当期末(基準年月)\nDB等給付金額","休職開始日","休職終了日\n※未定の場合は入力不要",null,"通信欄1","通信欄2","通信欄3"]
[]
["11:制度内枠","2024-04-16","2024-04-16",1,1,2,"減口休職",999999999,999999999,null,null,"未定",1,2,3]

{"sheet":"入力","index":4,"n_rows":16,"n_cols":14,"rows_kept":16,"cut":false,"hidden":false,"merged":[[1,0,1,10],[1,11,1,13],[2,10,3,10],[2,11,3,11],[2,12,3,12],[2,13,3,13],[2,8,3,8],[2,9,3,9],[2,7,3,7],[2,0,3,0],[2,3,3,3],[2,4,3,4],[2,5,3,5],[2,6,3,6],[2,1,3,1],[2,2,3,2]]}
[]
["加入者基本情報",null,null,null,null,null,null,null,null,null,null,"通信欄(様式1-1号には反映されません)"]
["利用区分","加入年月","登録番号","加入者名（カナ）","加入者名（漢字）","生年月日","性別","職種","就職日","加入口数","職員番号","通信欄1","通信欄2","通信欄3"]
[]
["21:財産形成"]
[]
[]
[]
[]
[]
[]
[]
[]
[]
[]
["県・団体コード","団体名","申込日"]

{"sheet":"ブロックの解除方法","index":5,"n_rows":32,"n_cols":2,"rows_kept":32,"cut":false,"hidden":false,"merged":[]}
["★ブロックの解除方法について"]
[]
[]
[]
["　上記のメッセージが表示された場合、「CSV出力」ボタンが使用できません。"]
["（１）","ご使用のPCにファイルをダウンロードしてご利用ください。"]
[null,"※ブロックされる場合は（２）をご参照ください。"]
[]
["（２）","（１）の方法でブロックされる場合は以下の操作を行ってください。"]
["①","ファイルを右クリックし、「プロパティ」を開く"]
[]
[]
[]
[]
[]
[]
[]
[]
[]
[]
[]
[]
[]
[]
[]
[]
[]
[]
[]
[]
[]
["②","プロパティ > 全般 に表示されている「セキュリティ： 許可する」に☑を入れ、「OK」ボタンをクリック"]

{"sheet":"施設増口","index":6,"n_rows":5,"n_cols":8,"rows_kept":5,"cut":false,"hidden":true,"merged":[[1,0,1,4],[1,5,1,7],[2,5,3,5],[2,6,3,6],[2,7,3,7],[2,2,3,2],[2,0,3,0],[2,1,3,1],[2,3,3,3],[2,4,3,4]]}
[]
["加入者基本情報",null,null,null,null,"通信欄"]
["利用区分","増口年月","登録番号","増口口数","増口後口数","通信欄1","通信欄2","通信欄3"]
[]
["21:財産形成","2025-05-17",274,200,700,"増口"]

{"sheet":"施設減口","index":7,"n_rows":5,"n_cols":12,"rows_kept":5,"cut":false,"hidden":true,"merged":[[1,6,1,8],[2,7,3,8],[1,0,1,5],[1,9,1,11],[2,2,3,2],[2,0,3,0],[2,1,3,1],[2,3,3,3],[2,4,3,4],[2,5,3,5],[2,11,3,11],[2,6,3,6],[2,9,3,9],[2,10,3,10]]}
[]
["加入者基本情報",null,null,null,null,null,"休職情報",null,null,"通信欄"]
["利用区分","減口年月","登録番号","減口口数","減口後口数","減口理由","休職開始日","休職終了日\n※未定の場合は入力不要",null,"通信欄1","通信欄2","通信欄3"]
[]
["21:財産形成","2025-04-16",281,400,0,"減口休職","2025-03-01","2025-03-05"]

{"sheet":"加入者情報変更","index":8,"n_rows":5,"n_cols":12,"rows_kept":5,"cut":false,"hidden":true,"merged":[[1,0,1,8],[1,9,1,11],[2,8,3,8],[2,9,3,9],[2,10,3,10],[2,11,3,11],[2,0,3,0],[2,6,3,6],[2,7,3,7],[2,1,3,1],[2,2,3,2],[2,3,3,3],[2,4,3,4],[2,5,3,5]]}
[]
["加入者基本情報　※「登録番号」と変更したい加入者情報のみ入力してください。",null,null,null,null,null,null,null,null,"通信欄"]
["登録番号","加入者名（カナ）","加入者名（漢字）","生年月日","性別","職種","就職日","退職金計算\n起算日","職員番号","通信欄1","通信欄2","通信欄3"]
[]
[12,"テスト","テスト","2024-04-16","男性","役員","2024-04-16","2024-04-16",null,1,2,3]

{"sheet":"【設定】","index":9,"n_rows":7,"n_cols":26,"rows_kept":7,"cut":false,"hidden":true,"merged":[[0,21,0,22],[0,24,0,25],[0,18,0,19],[0,0,0,1],[0,3,0,4],[0,6,0,7],[0,9,0,10],[0,12,0,13],[0,15,0,16]]}
["元号リスト",null,null,"利用区分リスト_制度",null,null,"利用区分リスト_施設",null,null,"性別リスト",null,null,"職種リスト_制度",null,null,"減口理由リスト_制度",null,null,"未定リスト",null,null,"職種リスト_施設",null,null,"減口理由リスト_施設"]
[0,null,null,0,null,null,0,null,null,0,null,null,0,null,null,0,null,null,0,null,null,0,null,null,0]
["M","明治",null,11,"11:制度内枠",null,21,"21:財産形成",null,1,"男性",null,2,"職員",null,2,"減口休職",null,1,"未定",null,1,"役員",null,2,"減口休職"]
["T","大正",null,12,"12:制度外枠",null,22,"22:役員慰労金個人",null,2,"女性",null,3,"その他職員",null,3,"減口給付金超過",null,null,null,null,2,"職員",null,3,"減口給付金超過"]
["S","昭和",null,13,"13:制度唯一",null,23,"23:役員慰労引当金",null,null,null,null,null,null,null,null,null,null,null,null,null,3,"その他職員",null,5,"減口職種変更"]
["H","平成",null,null,null,null,24,"24:職員給付引当金",null,null,null,null,null,null,null,null,null,null,null,null,null,null,null,null,6,"減口雇用延長"]
["R","令和",null,null,null,null,25,"25:施設個人別契約他"]